BEGIN:VCALENDAR
VERSION:2.0
PRODID:-//Tukios.com/
BEGIN:VEVENT
UID:c21c182c-c5d6-4926-8538-2ccfac20094c@www.thememorialchapels.com
DTSTAMP:20260425T000703Z
DTSTART:20260502T170000Z
DTEND:20260502T190000Z
SUMMARY:Celebration of Life
DESCRIPTION:
URL:https://www.thememorialchapels.com/obituaries/albert-carrillo
LOCATION: 400 S First St  Lufkin TX 75901
GEO:31.3362096;-94.7302598
END:VEVENT
END:VCALENDAR